BEGIN:VCALENDAR
VERSION:2.0
PRODID:-//fstc.net//NONSGML kigkonsult.se iCalcreator 2.30.10//
CALSCALE:GREGORIAN
METHOD:PUBLISH
UID:6e7cda38-e92c-4e8c-8e53-eb7837a260ec
X-WR-CALDESC:Are you passionate about helping survivors? Becoming a volunte
 er victim counselor can positively impact a survivor's life. Applications 
 are now being accepted for our next 40-hour training. This training covers
  the spectrum of domestic violence\, the impact of trauma\, crisis interve
 ntion\, advocacy skills\, and more. \n\nDetails:\nFridays\, April 12-May 1
 4\n8:30 a.m. - 5:00 p.m.\nTraining will be held in-person in Visalia.
X-WR-RELCALID:5699543cfbff91742e271561290b3174
X-WR-TIMEZONE:America/Los_Angeles
BEGIN:VTIMEZONE
TZID:America/Los_Angeles
BEGIN:STANDARD
TZNAME:PST
DTSTART:20221106T020000
TZOFFSETFROM:-0700
TZOFFSETTO:-0800
RDATE:20231105T020000
END:STANDARD
BEGIN:DAYLIGHT
TZNAME:PDT
DTSTART:20230312T020000
TZOFFSETFROM:-0800
TZOFFSETTO:-0700
RDATE:20240310T020000
END:DAYLIGHT
END:VTIMEZONE
BEGIN:VEVENT
UID:977faa6a-5110-4eeb-abd3-970e84e612b6
DTSTAMP:20260422T213640Z
DESCRIPTION:Are you passionate about helping survivors? Becoming a voluntee
 r victim counselor can positively impact a survivor's life. Applications a
 re now being accepted for our next 40-hour training. This training covers 
 the spectrum of domestic violence\, the impact of trauma\, crisis interven
 tion\, advocacy skills\, and more. \n\nDetails:\nFridays\, April 12-May 14
 \n8:30 a.m. - 5:00 p.m.\nTraining will be held in-person in Visalia.
DTSTART;TZID=America/Los_Angeles:20230414T083000
DTEND;TZID=America/Los_Angeles:20230414T083000
LOCATION:
SUMMARY:40 Hour Volunteer Crisis Counselor Training
END:VEVENT
END:VCALENDAR
