BEGIN:VCALENDAR
VERSION:2.0
PRODID:-//fstc.net//NONSGML kigkonsult.se iCalcreator 2.30.10//
CALSCALE:GREGORIAN
METHOD:PUBLISH
UID:32d5ce46-61f6-49f6-94c9-4ad489fbb114
X-WR-CALDESC:Acompáñenos hablar sobre el tema de la violencia doméstica y l
 os servicios que ofrece los programas de Family Services. Todas las person
 as interesadas en aprender sobre este tema y sobre nosotros son bienvenido
 s.
X-WR-RELCALID:fda15dd2cad61a7ddce138c2da9788d7
X-WR-TIMEZONE:America/Los_Angeles
BEGIN:VTIMEZONE
TZID:America/Los_Angeles
BEGIN:STANDARD
TZNAME:PST
DTSTART:20201101T020000
TZOFFSETFROM:-0700
TZOFFSETTO:-0800
RDATE:20211107T020000
RDATE:20221106T020000
END:STANDARD
BEGIN:DAYLIGHT
TZNAME:PDT
DTSTART:20210314T020000
TZOFFSETFROM:-0800
TZOFFSETTO:-0700
RDATE:20220313T020000
RDATE:20230312T020000
END:DAYLIGHT
END:VTIMEZONE
BEGIN:VEVENT
UID:46ef0e66-4a9a-4ef9-8079-597e3e829da2
DTSTAMP:20260420T075727Z
DESCRIPTION:Acompáñenos hablar sobre el tema de la violencia doméstica y lo
 s servicios que ofrece los programas de Family Services. Todas las persona
 s interesadas en aprender sobre este tema y sobre nosotros son bienvenidos
 .
DTSTART;TZID=America/Los_Angeles:20211021T130000
DTEND;TZID=America/Los_Angeles:20211021T140000
LOCATION:https://us02web.zoom.us/webinar/register/WN_cyJyHMusSHCIIBZdfEI6rw
SUMMARY:Seminario Web: Violencia Domestica
END:VEVENT
END:VCALENDAR
